BEGIN:VCALENDAR
VERSION:2.0
PRODID:-//wp-events-plugin.com//7.0.5//EN
BEGIN:VEVENT
UID:47@alicetvaruzkova.cz
DTSTART:20260306T180000Z
DTEND:20260306T200000Z
DTSTAMP:20260309T152032Z
URL:https://alicetvaruzkova.cz/akce/breznovy-tanec/
SUMMARY:Březnový tanec
DESCRIPTION:\nV National geographic vyšel nedávno článek o tom\, jaký 
 je tanec lék. Výzkumy neurovědců prokazují\, že pohyb při hudbě ve
  skupině snižuje příznaky deprese více než chůze či jóga.\n\n\nJ
 á naprosto věřím v sílu tance a sama ho téměř denně praktikuji v 
 rámci své osobní praxe movement medicine. Tanec ve skupině je ještě 
 posílen společným záměrem a prožitkem a proto obnovuji po letech op
 ět společné spontánní tance\, kde prostě tančíte na hudbu\, jak va
 še tělo chce a může. Já vás přitom jemně povedu.\nTancem se propoj
 ujeme lépe s tělem\, se sebou a ostatními\, dokonce i se svými emocemi
 \, které můžeme pohybem uvolnit. Tanec je terapie na jakýkoli stav\, k
 terý prožíváme. Tancem dáme věci a události v sobě do pohybu i do 
 vědomí.\nDojeďte za mnou na předjarní tanec. Vytančíme chmury. Prot
 ančíme se společně do radosti.\n\nNení potřeba žádné taneční zk
 ušenosti\, jen chuť tančit.
ATTACH;FMTTYPE=image/jpeg:https://alicetvaruzkova.cz/wp-content/uploads/20
 25/10/pusta02-scaled.jpg
CATEGORIES:Již proběhlo,Tanec
LOCATION:Společenské centrum Bělá nad Svitavou\, Bělá 47\, Bělá nad
  Svitavou\, Česká republika
GEO:49.63923;16.485938
X-APPLE-STRUCTURED-LOCATION;VALUE=URI;X-ADDRESS=Bělá 47\, Bělá nad Svit
 avou\, Česká republika;X-APPLE-RADIUS=100;X-TITLE=Společenské centrum 
 Bělá nad Svitavou:geo:49.63923,16.485938
END:VEVENT
END:VCALENDAR