BEGIN:VCALENDAR
VERSION:2.0
PRODID:-//wp-events-plugin.com//7.0.5//EN
BEGIN:VEVENT
UID:57@alicetvaruzkova.cz
DTSTART:20260605T180000Z
DTEND:20260605T200000Z
DTSTAMP:20260421T064654Z
URL:https://alicetvaruzkova.cz/akce/ciganske-tance-ze-sedmihradska-2/
SUMMARY:Cigánské tance ze Sedmihradska
DESCRIPTION:Mimořádný taneční večer\, který povede tanečnice Katar
 ína Jelínková a naučí nás cigánské tance z oblasti Sedmihradska. N
 etřeba tanečních zkušeností. Muži jsou vítáni.\n\nBudeme se učit
  tanec maďarských cikánů z vesnice Szászcsávás v Sedmihradsku.
  „Místní společensky neetablovaní Romové žijí v uličkách kopeč
 ku na konci vesnice\, kam bych bez romského průvodce nikdy nevkročila. 
 Jejich děti nosí několik let jedno oblečení\, v kuse. Jednou na konci
  pobytu jsem si dobře schovala v sále láhev s vínem\, jen skok na toal
 etu a víno bylo fuč. Tančit a hrát umějí mnohonásobně rychleji.\n\
 n\n\n\n\nMy se budeme učit v komfortním tempu začátečníků a obsáhn
 eme tolik prvků\, abyste si odteď mohli skočit na cikánský čardáš
  z jakéhokoli regionu.“\n\n\n\n\n\nSebou : taneční boty typu charakte
 rky nebo baleríny\, jen pozor ať nebarví podrážka a je dobré\, když
  jsou trochu slyšet. Tedy ne gumová podrážka i kvůli skluzu. Sukně d
 louhá\, co nejširší plus velký šátek klidně s třásněmi\, k tomu
  halenka nebo košile\, klidně pánská.\n\n\n\n\n\nKatarína Jelínková
  vyrůstala v maďarském prostředí a maďarština je jejím rodným ja
 zykem. Tančí od ranného dětství. Nejdřív před černobílou televiz
 í a pak během ZŠ prošla baletní průpravou a taky navštěvovala soub
 or maďarským lidových tanců Szőttes v Bratislavě. Jako středoško
 lačku ji bavil jazz a contemporary. V roce 2002 v Brně založila soubor
  maďarských lidových tanců Kőris\, který vedla do roku 2007. Od té 
 doby tančí rekreačně a pravidelně jezdí do Maďarska a Rumunska uči
 t se lidové tance různých stylů.\n\nTěšíme se na tebe milá tanečn
 ice\, tanečníku.\n\nVšichni jsou vítání\, není třeba mít žádné
  taneční zkušenosti jen chuť tančit.
ATTACH;FMTTYPE=image/jpeg:https://alicetvaruzkova.cz/wp-content/uploads/20
 25/10/IMG-20260115-WA0001.jpg
CATEGORIES:Budoucí,Tanec
LOCATION:Společenské centrum Bělá nad Svitavou\, Bělá 47\, Bělá nad
  Svitavou\, Česká republika
GEO:49.63923;16.485938
X-APPLE-STRUCTURED-LOCATION;VALUE=URI;X-ADDRESS=Bělá 47\, Bělá nad Svit
 avou\, Česká republika;X-APPLE-RADIUS=100;X-TITLE=Společenské centrum 
 Bělá nad Svitavou:geo:49.63923,16.485938
END:VEVENT
END:VCALENDAR