BEGIN:VCALENDAR
VERSION:2.0
PRODID:-//wp-events-plugin.com//7.0.5//EN
BEGIN:VEVENT
UID:52@alicetvaruzkova.cz
DTSTART;VALUE=DATE:20260905
DTEND;VALUE=DATE:20260913
DTSTAMP:20260318T195928Z
URL:https://alicetvaruzkova.cz/akce/joga-u-more-3-turnus/
SUMMARY:Jóga u moře - 3.turnus
DESCRIPTION:Přijměte pozvání na léty prověřenou akci\, na kterou se 
 velmi rádi vracíte. Tento pobyt je určen pro dospělé.\n\nČeká vás 
 velmi příjemné místo v klidné části Brely s výhledem na moře\, mi
 lou paní domácí\, která mluví plynně česky. Pláže jsou tu malebn
 é\,  oblázkové s pozvolným vstupem do vody. Z Brely do Bašky vede 3k
 m promenáda\, kde se můžete zastavit na jakékoli pláži či baru a re
 stauraci. Nad Brelou ční přírodní park Biokovo\, kde uvidíte svět z
  nadhledu a po značených trasách se můžete podívat po okolí. Stejn
 ě tak můžete využít přírodní lezeckou stěnu\, nebo provozovat ran
 ní běh po promenádě\, která je zcela vylidněná. Čeká vás ranní 
 a večerní 90timinutová lekce jógy\, která je určena jak pro začáte
 čníky\, tak pro pokročilé. Ušiji vám ji na míru a každý si přijd
 e na své. Zaměříme se na vytváření správných pohybových vzorců 
 a stereotypů tak\, aby nás nebolela záda ani klouby. Večer nás čeká
  několik meditací s pránajámou na břehu moře s výhledem na západ s
 lunce. Je to krásný čas na ztišení a vnitřní naladění do klidu a 
 jednoty. Během jogové praxe budou vaše děti pod dohledem učitelky dě
 tské jogy. Čeká vás zdravá a velmi chutná veganská polopenze (sníd
 aně a obědy) pod taktovkou či vařečkou Good Karma Cateringu tedy skv
 ělé ajurvédské kuchařky Světlany Synákové\, která vaří recepty 
 z celého světa. Zbytek času máte volno pro sebe\, užívání slunce\,
  koupání\, šnorchlování\, výletů po moři i po souši\, třeba na p
 rotilehlé ostrovy Hvar a Brač nebo po pevnině do Omiše či Makarské. 
 Blízko je taky kaňon řeky Cetiny s možností kaňoningu\,  raftován
 í\, či jen výletu lodí po klidné části řeky. Večery můžete spol
 ečně posedět na terase u místního vína či rakije a sdílet svoje p
 říběhy a zážitky.\n\n&nbsp\;\n\ndoprava vlastní nebo busem CK\, kter
 ý zařizuji\n\ncena 18 300 kč bez dopravy - zahrnuje ubytování\, polop
 enzi a jógový program s organizací\n\ncena 21 100kč s dopravou
ATTACH;FMTTYPE=image/jpeg:https://alicetvaruzkova.cz/wp-content/uploads/20
 24/03/boats-blue-water-near-seashore-cinque-terre-national-park-italy-scal
 ed.jpg
CATEGORIES:Budoucí,Jógový pobyt
LOCATION:vila Kosa\, Dunaj 6\, Brela\, Chorvatsko\, Česká republika
GEO:43.367795;16.932886
X-APPLE-STRUCTURED-LOCATION;VALUE=URI;X-ADDRESS=Dunaj 6\, Brela\, Chorvatsk
 o\, Česká republika;X-APPLE-RADIUS=100;X-TITLE=vila Kosa:geo:43.367795,1
 6.932886
END:VEVENT
END:VCALENDAR