BEGIN:VCALENDAR
VERSION:2.0
PRODID:-//wp-events-plugin.com//7.0.5//EN
BEGIN:VEVENT
UID:56@alicetvaruzkova.cz
DTSTART;VALUE=DATE:20260723
DTEND;VALUE=DATE:20260727
DTSTAMP:20260327T093007Z
URL:https://alicetvaruzkova.cz/akce/letni-pobyt-s-alchymilkou-radost-v-srd
 ci-radost-v-tele/
SUMMARY:Letní pobyt s Alchymilkou - Radost v srdci\, radost v těle
DESCRIPTION:Na tuto akci se s mojí dlouholetou kamarádkou a skvělou žen
 ou a průvodkyní i učitelkou Mílou Alchymilkou jsme se chystaly už mno
 ho let. Teprve loni dozrál čas a my se s vámi potkaly a tvořily na nes
 kutečně krásném odlehlém místě v Bílých Karpatech v Surya centru.
  A letos to chceme zopakovat na neméně krásném místě v Usedlosti Loz
 ice\, která je také velmi harmonicky vedená a její majitelé zde žij
 í a hospodaří v souladu s přírodou a duchem místa. Pojďme se potkat
  a společně tvořit přítomnost. Budeme chodit do přírody\, pracovat 
 s krystaly\, tančit\, meditovat\, cvičit jógu či čchi kung. Zkrátka 
 s Mílou nabídneme to\, co nám je vlastní. Předně je to radost a smí
 ch. Chceme se hodně spojovat s přírodou\, tělem\, srdcem.  Jste srde
 čně zváni do našeho kruhu.\n\nPříjezd na místo ve čtvrtek odpoledn
 e.\n\nProgram začíná ve čtvrtek navečer a končí nedělním obědem.
 \n\ncena 7 900kč /316 eur
ATTACH;FMTTYPE=image/jpeg:https://alicetvaruzkova.cz/wp-content/uploads/20
 25/01/DSCF0252-scaled.jpg
CATEGORIES:Budoucí,Víkendovka
LOCATION:Usedlost Lozice\, Lozice 32\, Lozice\, Česká republika
GEO:49.91751;16.024192
X-APPLE-STRUCTURED-LOCATION;VALUE=URI;X-ADDRESS=Lozice 32\, Lozice\, Česk
 á republika;X-APPLE-RADIUS=100;X-TITLE=Usedlost Lozice:geo:49.91751,16.02
 4192
END:VEVENT
END:VCALENDAR