BEGIN:VCALENDAR
VERSION:2.0
PRODID:-//wp-events-plugin.com//7.0.5//EN
BEGIN:VEVENT
UID:48@alicetvaruzkova.cz
DTSTART:20260222T090000Z
DTEND:20260222T120000Z
DTSTAMP:20260223T115456Z
URL:https://alicetvaruzkova.cz/akce/opakovaci-lekce-hormonalni-jogy-4/
SUMMARY:Opakovací lekce hormonální jógy
DESCRIPTION:Milá ženo\,\n\nabsolvovala jsi kurz či seminář hormonáln
 í jógy a ráda by sis sestavu zopakovala\, osvěžila a znovu se nakopla
  k domácí praxi? Zvu tě na krátké tříhodinové setkání\, kde tě 
 ráda sestavou provedu\, vysvětlím chyby a odpovím na tvé otázky.\n\n
 Těším se na tebe
ATTACH;FMTTYPE=image/jpeg:https://alicetvaruzkova.cz/wp-content/uploads/20
 24/12/035A6115-scaled.jpg
CATEGORIES:Hormonální jóga,Již proběhlo
LOCATION:Plívova nadace\, Plívova nadace\, Svitavy\, Svitavy\, náměstí
  Míru 138\, Česká republika
GEO:49.756456;16.468376
X-APPLE-STRUCTURED-LOCATION;VALUE=URI;X-ADDRESS=Plívova nadace\, Svitavy\,
  Svitavy\, náměstí Míru 138\, Česká republika;X-APPLE-RADIUS=100;X-T
 ITLE=Plívova nadace:geo:49.756456,16.468376
END:VEVENT
END:VCALENDAR